BEGIN:VCALENDAR
VERSION:2.0
PRODID:-//Contratero//ES
CALSCALE:GREGORIAN
METHOD:PUBLISH
BEGIN:VEVENT
UID:25-0028@contratero.es
DTSTAMP:20260421T174440Z
DTSTART:20250818T235959
DTEND:20250819T005959
SUMMARY:Cierre: Suministro de licencia VMWARE Standard
DESCRIPTION:Suministro de licencia VMWARE Standard\\n\\nOrganismo: Gerencia de Mutua Navarra\, Mutua de Accidentes de Trabajo y Enfermedades Profesionales de la Seguridad Social 21\\n\\nVer en Contratero: https://contratero.es/contracts/25-0028
URL:https://contratero.es/contracts/25-0028
STATUS:CONFIRMED
BEGIN:VALARM
TRIGGER:-P1D
ACTION:DISPLAY
DESCRIPTION:Recordatorio: Suministro de licencia VMWARE 
END:VALARM
END:VEVENT
END:VCALENDAR