BEGIN:VCALENDAR
VERSION:2.0
PRODID:-//Contratero//ES
CALSCALE:GREGORIAN
METHOD:PUBLISH
BEGIN:VEVENT
UID:25-0080@contratero.es
DTSTAMP:20260422T051244Z
DTSTART:20251126T235959
DTEND:20251127T005959
SUMMARY:Cierre: Renovación de licencias de Citrix y Netscaler
DESCRIPTION:Renovación de licencias de Citrix y Netscaler\\n\\nOrganismo: Gerencia de Mutua Navarra\, Mutua de Accidentes de Trabajo y Enfermedades Profesionales de la Seguridad Social 21\\n\\nVer en Contratero: https://contratero.es/contracts/25-0080
URL:https://contratero.es/contracts/25-0080
STATUS:CONFIRMED
BEGIN:VALARM
TRIGGER:-P1D
ACTION:DISPLAY
DESCRIPTION:Recordatorio: Renovación de licencias de Cit
END:VALARM
END:VEVENT
END:VCALENDAR