BEGIN:VCALENDAR
VERSION:2.0
PRODID:-//Contratero//ES
CALSCALE:GREGORIAN
METHOD:PUBLISH
BEGIN:VEVENT
UID:25-0662@contratero.es
DTSTAMP:20260420T171445Z
DTSTART:20251209T235959
DTEND:20251210T005959
SUMMARY:Cierre: Suministro de 190 licencias Extended Security Upda
DESCRIPTION:Suministro de 190 licencias Extended Security Updates Year 1 para Windows\\n\\nOrganismo: Gerencia de Mutua Navarra\, Mutua de Accidentes de Trabajo y Enfermedades Profesionales de la Seguridad Social 21\\n\\nVer en Contratero: https://contratero.es/contracts/25-0662
URL:https://contratero.es/contracts/25-0662
STATUS:CONFIRMED
BEGIN:VALARM
TRIGGER:-P1D
ACTION:DISPLAY
DESCRIPTION:Recordatorio: Suministro de 190 licencias Ex
END:VALARM
END:VEVENT
END:VCALENDAR