BEGIN:VCALENDAR
VERSION:2.0
PRODID:-//Contratero//ES
CALSCALE:GREGORIAN
METHOD:PUBLISH
BEGIN:VEVENT
UID:25-623@contratero.es
DTSTAMP:20260422T173930Z
DTSTART:20260105T235959
DTEND:20260106T005959
SUMMARY:Cierre: Adquisicion y despliegue de dos nodos compatilbles
DESCRIPTION:Adquisicion y despliegue de dos nodos compatilbles con la estructura Nutanix para albergar la infraestructura hardware del nuevo Data Lake de telelectura de contadores dentro del proyecto estrategico ...\\n\\nOrganismo: Consejero Delegado de la Empresa Municipal de Aguas de Málaga S.A.\\n\\nVer en Contratero: https://contratero.es/contracts/25-623
URL:https://contratero.es/contracts/25-623
STATUS:CONFIRMED
BEGIN:VALARM
TRIGGER:-P1D
ACTION:DISPLAY
DESCRIPTION:Recordatorio: Adquisicion y despliegue de do
END:VALARM
END:VEVENT
END:VCALENDAR