BEGIN:VCALENDAR
VERSION:2.0
PRODID:-//Contratero//ES
CALSCALE:GREGORIAN
METHOD:PUBLISH
BEGIN:VEVENT
UID:25/0034-00@contratero.es
DTSTAMP:20260422T085658Z
DTSTART:20250509T235959
DTEND:20250510T005959
SUMMARY:Cierre: Licencias Solarwinds Dameware
DESCRIPTION:Licencias Solarwinds Dameware\\n\\nOrganismo: Fundació Banc de Sang i Teixits de les Illes Balears\\n\\nVer en Contratero: https://contratero.es/contracts/25/0034-00
URL:https://contratero.es/contracts/25/0034-00
STATUS:CONFIRMED
BEGIN:VALARM
TRIGGER:-P1D
ACTION:DISPLAY
DESCRIPTION:Recordatorio: Licencias Solarwinds Dameware
END:VALARM
END:VEVENT
END:VCALENDAR