BEGIN:VCALENDAR
VERSION:2.0
PRODID:-//Contratero//ES
CALSCALE:GREGORIAN
METHOD:PUBLISH
BEGIN:VEVENT
UID:25/013.0@contratero.es
DTSTAMP:20260421T154212Z
DTSTART:20250609T235959
DTEND:20250610T005959
SUMMARY:Cierre: Suministro de renovación de licencias de los produ
DESCRIPTION:Suministro de renovación de licencias de los productos ORACLE para los entornos informáticos del Centro de Documentación Judicial\, en San Sebastián y Madrid (Informática Judicial e Informática Interna...\\n\\nOrganismo: Consejo General del Poder Judicial\\n\\nVer en Contratero: https://contratero.es/contracts/25/013.0
URL:https://contratero.es/contracts/25/013.0
STATUS:CONFIRMED
BEGIN:VALARM
TRIGGER:-P1D
ACTION:DISPLAY
DESCRIPTION:Recordatorio: Suministro de renovación de li
END:VALARM
END:VEVENT
END:VCALENDAR