BEGIN:VCALENDAR
VERSION:2.0
PRODID:-//Contratero//ES
CALSCALE:GREGORIAN
METHOD:PUBLISH
BEGIN:VEVENT
UID:25/094/2@contratero.es
DTSTAMP:20260422T174631Z
DTSTART:20251223T235959
DTEND:20251224T005959
SUMMARY:Cierre: Suministro de licencias para la protección del cor
DESCRIPTION:Suministro de licencias para la protección del correo electrónico y entorno colaborativo en Microsoft 365 para la protección de los buzones corporativos de EMT Madrid.\\n\\nOrganismo: Empresa Municipal de Transportes de Madrid\, S.A.\\n\\nVer en Contratero: https://contratero.es/contracts/25/094/2
URL:https://contratero.es/contracts/25/094/2
STATUS:CONFIRMED
BEGIN:VALARM
TRIGGER:-P1D
ACTION:DISPLAY
DESCRIPTION:Recordatorio: Suministro de licencias para l
END:VALARM
END:VEVENT
END:VCALENDAR