BEGIN:VCALENDAR
VERSION:2.0
PRODID:-//Contratero//ES
CALSCALE:GREGORIAN
METHOD:PUBLISH
BEGIN:VEVENT
UID:25/2023@contratero.es
DTSTAMP:20260424T235402Z
DTSTART:20231026T235959
DTEND:20231027T005959
SUMMARY:Cierre: Ocupación común especial del Bar-Ambigú de la Case
DESCRIPTION:Ocupación común especial del Bar-Ambigú de la Caseta municipal el día 24 de noviembre\, con motivo de la actuación del grupo musical Wo-Man Signo Rock\, mediante subasta pública.\\n\\nOrganismo: Alcaldía del Ayuntamiento de Espartinas\\n\\nVer en Contratero: https://contratero.es/contracts/25/2023
URL:https://contratero.es/contracts/25/2023
STATUS:CONFIRMED
BEGIN:VALARM
TRIGGER:-P1D
ACTION:DISPLAY
DESCRIPTION:Recordatorio: Ocupación común especial del B
END:VALARM
END:VEVENT
END:VCALENDAR