BEGIN:VCALENDAR
VERSION:2.0
PRODID:-//Contratero//ES
CALSCALE:GREGORIAN
METHOD:PUBLISH
BEGIN:VEVENT
UID:25/204@contratero.es
DTSTAMP:20260419T224708Z
DTSTART:20250619T235959
DTEND:20250620T005959
SUMMARY:Cierre: Servicios de Soporte técnico de 10 licencias de So
DESCRIPTION:Servicios de Soporte técnico de 10 licencias de Software PL/SQL Developer\\n\\nOrganismo: Comisión de Contratación de la Sociedad Estatal Loterías y Apuestas del Estado\, S.M.E.\, S.A.\\n\\nVer en Contratero: https://contratero.es/contracts/25/204
URL:https://contratero.es/contracts/25/204
STATUS:CONFIRMED
BEGIN:VALARM
TRIGGER:-P1D
ACTION:DISPLAY
DESCRIPTION:Recordatorio: Servicios de Soporte técnico d
END:VALARM
END:VEVENT
END:VCALENDAR