BEGIN:VCALENDAR
VERSION:2.0
PRODID:-//Contratero//ES
CALSCALE:GREGORIAN
METHOD:PUBLISH
BEGIN:VEVENT
UID:25/38896@contratero.es
DTSTAMP:20260421T154212Z
DTSTART:20250725T235959
DTEND:20250726T005959
SUMMARY:Cierre: Suministro de 32 licencias anuales MobaXterm Profe
DESCRIPTION:Suministro de 32 licencias anuales MobaXterm Professional Edition\\n\\nOrganismo: Rectorado de la Universidad de Sevilla\\n\\nVer en Contratero: https://contratero.es/contracts/25/38896
URL:https://contratero.es/contracts/25/38896
STATUS:CONFIRMED
BEGIN:VALARM
TRIGGER:-P1D
ACTION:DISPLAY
DESCRIPTION:Recordatorio: Suministro de 32 licencias anu
END:VALARM
END:VEVENT
END:VCALENDAR