BEGIN:VCALENDAR
VERSION:2.0
PRODID:-//Contratero//ES
CALSCALE:GREGORIAN
METHOD:PUBLISH
BEGIN:VEVENT
UID:25/AMREDES@contratero.es
DTSTAMP:20260420T002007Z
DTSTART:20260107T235959
DTEND:20260108T005959
SUMMARY:Cierre: Acuerdo Marco para los Servicios de creación de co
DESCRIPTION:Acuerdo Marco para los Servicios de creación de contenidos\, gestión y mantenimiento de Redes Sociales\\n\\nOrganismo: Rectorado de la Universidad de Sevilla\\n\\nVer en Contratero: https://contratero.es/contracts/25/AMREDES
URL:https://contratero.es/contracts/25/AMREDES
STATUS:CONFIRMED
BEGIN:VALARM
TRIGGER:-P1D
ACTION:DISPLAY
DESCRIPTION:Recordatorio: Acuerdo Marco para los Servici
END:VALARM
END:VEVENT
END:VCALENDAR