BEGIN:VCALENDAR
VERSION:2.0
PRODID:-//Contratero//ES
CALSCALE:GREGORIAN
METHOD:PUBLISH
BEGIN:VEVENT
UID:250044@contratero.es
DTSTAMP:20260422T182119Z
DTSTART:20250227T235959
DTEND:20250228T005959
SUMMARY:Cierre: Renovación licencias Forensic Email Collector
DESCRIPTION:Renovación licencias Forensic Email Collector\\n\\nOrganismo: Secretaría General de la Comisión Nacional de los Mercados y la Competencia\\n\\nVer en Contratero: https://contratero.es/contracts/250044
URL:https://contratero.es/contracts/250044
STATUS:CONFIRMED
BEGIN:VALARM
TRIGGER:-P1D
ACTION:DISPLAY
DESCRIPTION:Recordatorio: Renovación licencias Forensic 
END:VALARM
END:VEVENT
END:VCALENDAR