BEGIN:VCALENDAR
VERSION:2.0
PRODID:-//Contratero//ES
CALSCALE:GREGORIAN
METHOD:PUBLISH
BEGIN:VEVENT
UID:250128@contratero.es
DTSTAMP:20260419T125849Z
DTSTART:20251001T235959
DTEND:20251002T005959
SUMMARY:Cierre: Servicio de mantenimiento y soporte para la instan
DESCRIPTION:Servicio de mantenimiento y soporte para la instancia de KOHA-KOBLI de la biblioteca CNMC y de los Scripts de integración de bases de datos documentales de la CNMC. Período 2025-2026.\\n\\nOrganismo: Secretaría General de la Comisión Nacional de los Mercados y la Competencia\\n\\nVer en Contratero: https://contratero.es/contracts/250128
URL:https://contratero.es/contracts/250128
STATUS:CONFIRMED
BEGIN:VALARM
TRIGGER:-P1D
ACTION:DISPLAY
DESCRIPTION:Recordatorio: Servicio de mantenimiento y so
END:VALARM
END:VEVENT
END:VCALENDAR