BEGIN:VCALENDAR
VERSION:2.0
PRODID:-//Contratero//ES
CALSCALE:GREGORIAN
METHOD:PUBLISH
BEGIN:VEVENT
UID:25116V010@contratero.es
DTSTAMP:20260421T235940Z
DTSTART:20221110T235959
DTEND:20221111T005959
SUMMARY:Cierre: Rediseño del portal web municipal y adquisición de
DESCRIPTION:Rediseño del portal web municipal y adquisición de un gestor de contenidos\, implantación\, bolsa de horas\, soporte\, formación y hosting. Soluciones tecnológicas para el desarrollo de la iniciativa "Lug...\\n\\nOrganismo: Pleno del Ayuntamiento de Siero\\n\\nVer en Contratero: https://contratero.es/contracts/25116V010
URL:https://contratero.es/contracts/25116V010
STATUS:CONFIRMED
BEGIN:VALARM
TRIGGER:-P1D
ACTION:DISPLAY
DESCRIPTION:Recordatorio: Rediseño del portal web munici
END:VALARM
END:VEVENT
END:VCALENDAR