BEGIN:VCALENDAR
VERSION:2.0
PRODID:-//Contratero//ES
CALSCALE:GREGORIAN
METHOD:PUBLISH
BEGIN:VEVENT
UID:25118S006@contratero.es
DTSTAMP:20260424T114608Z
DTSTART:20240409T235959
DTEND:20240410T005959
SUMMARY:Cierre: Contratación del suministro de renovación de las s
DESCRIPTION:Contratación del suministro de renovación de las suscripciones de licencias software de uso general durante el segundo trimestre de 2024\\n\\nOrganismo: Concejalía Delegada del Área de Hacienda\, Contratación\, Digitalización\, Organización y Régimen Interior del Ayuntamiento de Siero\\n\\nVer en Contratero: https://contratero.es/contracts/25118S006
URL:https://contratero.es/contracts/25118S006
STATUS:CONFIRMED
BEGIN:VALARM
TRIGGER:-P1D
ACTION:DISPLAY
DESCRIPTION:Recordatorio: Contratación del suministro de
END:VALARM
END:VEVENT
END:VCALENDAR