BEGIN:VCALENDAR
VERSION:2.0
PRODID:-//Contratero//ES
CALSCALE:GREGORIAN
METHOD:PUBLISH
BEGIN:VEVENT
UID:25118S00Z@contratero.es
DTSTAMP:20260423T023911Z
DTSTART:20241230T235959
DTEND:20241231T005959
SUMMARY:Cierre: Contratación de la renovación de suscripción por u
DESCRIPTION:Contratación de la renovación de suscripción por un año de las licencias software de AUTOCAD 2025\\n\\nOrganismo: Alcaldía del Ayuntamiento de Siero\\n\\nVer en Contratero: https://contratero.es/contracts/25118S00Z
URL:https://contratero.es/contracts/25118S00Z
STATUS:CONFIRMED
BEGIN:VALARM
TRIGGER:-P1D
ACTION:DISPLAY
DESCRIPTION:Recordatorio: Contratación de la renovación 
END:VALARM
END:VEVENT
END:VCALENDAR