BEGIN:VCALENDAR
VERSION:2.0
PRODID:-//Contratero//ES
CALSCALE:GREGORIAN
METHOD:PUBLISH
BEGIN:VEVENT
UID:2513423Q@contratero.es
DTSTAMP:20260423T110120Z
DTSTART:20251209T235959
DTEND:20251210T005959
SUMMARY:Cierre: Servicio de soporte y mantenimiento de opennac ent
DESCRIPTION:Servicio de soporte y mantenimiento de opennac enterprise (anteriormente EMMA CCN-CERT)\\n\\nOrganismo: Junta de Gobierno Local del Ayuntamiento de Requena\\n\\nVer en Contratero: https://contratero.es/contracts/2513423Q
URL:https://contratero.es/contracts/2513423Q
STATUS:CONFIRMED
BEGIN:VALARM
TRIGGER:-P1D
ACTION:DISPLAY
DESCRIPTION:Recordatorio: Servicio de soporte y mantenim
END:VALARM
END:VEVENT
END:VCALENDAR