BEGIN:VCALENDAR
VERSION:2.0
PRODID:-//Contratero//ES
CALSCALE:GREGORIAN
METHOD:PUBLISH
BEGIN:VEVENT
UID:25313/2025@contratero.es
DTSTAMP:20260420T071854Z
DTSTART:20251020T235959
DTEND:20251021T005959
SUMMARY:Cierre: Desarrollo e implementación de la Plataforma Intel
DESCRIPTION:Desarrollo e implementación de la Plataforma Inteligente de Destinos de las Rozas de Madrid para la Gestión turística y promoción del destino\, financiado por el Fondo de Recuperación Next Generation-E...\\n\\nOrganismo: Junta de Gobierno del Ayuntamiento Las Rozas\\n\\nVer en Contratero: https://contratero.es/contracts/25313/2025
URL:https://contratero.es/contracts/25313/2025
STATUS:CONFIRMED
BEGIN:VALARM
TRIGGER:-P1D
ACTION:DISPLAY
DESCRIPTION:Recordatorio: Desarrollo e implementación de
END:VALARM
END:VEVENT
END:VCALENDAR