BEGIN:VCALENDAR
VERSION:2.0
PRODID:-//Contratero//ES
CALSCALE:GREGORIAN
METHOD:PUBLISH
BEGIN:VEVENT
UID:255/2020@contratero.es
DTSTAMP:20260424T005239Z
DTSTART:20210119T235959
DTEND:20210120T005959
SUMMARY:Cierre: Servicio de Delegado de Protección de Datos a la D
DESCRIPTION:Servicio de Delegado de Protección de Datos a la Diputación Provincial de Zaragoza\, organismos y entes públicos dependientes de ella y a los Ayuntamientos de la provincia de Zaragoza\\n\\nOrganismo: Presidencia de la Diputación Provincial de Zaragoza\\n\\nVer en Contratero: https://contratero.es/contracts/255/2020
URL:https://contratero.es/contracts/255/2020
STATUS:CONFIRMED
BEGIN:VALARM
TRIGGER:-P1D
ACTION:DISPLAY
DESCRIPTION:Recordatorio: Servicio de Delegado de Protec
END:VALARM
END:VEVENT
END:VCALENDAR