BEGIN:VCALENDAR
VERSION:2.0
PRODID:-//Contratero//ES
CALSCALE:GREGORIAN
METHOD:PUBLISH
BEGIN:VEVENT
UID:257/2023@contratero.es
DTSTAMP:20260421T125407Z
DTSTART:20231102T235959
DTEND:20231103T005959
SUMMARY:Cierre: Adquisición de fuentes de información empresarial 
DESCRIPTION:Adquisición de fuentes de información empresarial que permitan el enriquecimiento y la actualización de la plataforma CRM\\n\\nOrganismo: Consejo de Administración de ICEX España Exportación e Inversiones\, E.P.E.\\n\\nVer en Contratero: https://contratero.es/contracts/257/2023
URL:https://contratero.es/contracts/257/2023
STATUS:CONFIRMED
BEGIN:VALARM
TRIGGER:-P1D
ACTION:DISPLAY
DESCRIPTION:Recordatorio: Adquisición de fuentes de info
END:VALARM
END:VEVENT
END:VCALENDAR