BEGIN:VCALENDAR
VERSION:2.0
PRODID:-//Contratero//ES
CALSCALE:GREGORIAN
METHOD:PUBLISH
BEGIN:VEVENT
UID:2574591X@contratero.es
DTSTAMP:20260419T135006Z
DTSTART:20260205T235959
DTEND:20260206T005959
SUMMARY:Cierre: Servicio de soporte y mantenimiento de Gestión de 
DESCRIPTION:Servicio de soporte y mantenimiento de Gestión de Cobros Municipales\, GCM\, modalidad Cloud\\n\\nOrganismo: Alcaldía del Ayuntamiento de Requena\\n\\nVer en Contratero: https://contratero.es/contracts/2574591X
URL:https://contratero.es/contracts/2574591X
STATUS:CONFIRMED
BEGIN:VALARM
TRIGGER:-P1D
ACTION:DISPLAY
DESCRIPTION:Recordatorio: Servicio de soporte y mantenim
END:VALARM
END:VEVENT
END:VCALENDAR