BEGIN:VCALENDAR
VERSION:2.0
PRODID:-//Contratero//ES
CALSCALE:GREGORIAN
METHOD:PUBLISH
BEGIN:VEVENT
UID:2596/2021@contratero.es
DTSTAMP:20260421T035709Z
DTSTART:20210421T235959
DTEND:20210422T005959
SUMMARY:Cierre: contrato de servicios de diseño y mantenimiento we
DESCRIPTION:contrato de servicios de diseño y mantenimiento web\\n\\nOrganismo: Junta de Gobierno Local del Ayuntamiento de Alcantarilla\\n\\nVer en Contratero: https://contratero.es/contracts/2596/2021
URL:https://contratero.es/contracts/2596/2021
STATUS:CONFIRMED
BEGIN:VALARM
TRIGGER:-P1D
ACTION:DISPLAY
DESCRIPTION:Recordatorio: contrato de servicios de diseñ
END:VALARM
END:VEVENT
END:VCALENDAR