BEGIN:VCALENDAR
VERSION:2.0
PRODID:-//Contratero//ES
CALSCALE:GREGORIAN
METHOD:PUBLISH
BEGIN:VEVENT
UID:25PNSP01-@contratero.es
DTSTAMP:20260421T035935Z
DTSTART:20250605T235959
DTEND:20250606T005959
SUMMARY:Cierre: SPSI-Suministro y soporte de la Infraestructura de
DESCRIPTION:SPSI-Suministro y soporte de la Infraestructura del servidor ORACLE para el Instituto de las Mujeres O.A.\\n\\nOrganismo: Instituto de las Mujeres\\n\\nVer en Contratero: https://contratero.es/contracts/25PNSP01-
URL:https://contratero.es/contracts/25PNSP01-
STATUS:CONFIRMED
BEGIN:VALARM
TRIGGER:-P1D
ACTION:DISPLAY
DESCRIPTION:Recordatorio: SPSI-Suministro y soporte de l
END:VALARM
END:VEVENT
END:VCALENDAR