BEGIN:VCALENDAR
VERSION:2.0
PRODID:-//Contratero//ES
CALSCALE:GREGORIAN
METHOD:PUBLISH
BEGIN:VEVENT
UID:25TT-RRHH020@contratero.es
DTSTAMP:20260426T005441Z
DTSTART:20251003T235959
DTEND:20251004T005959
SUMMARY:Cierre: El objetivo de esta licitación es poder disponer d
DESCRIPTION:El objetivo de esta licitación es poder disponer de un sistema o plataforma/software ágil\, dinámica\, intuitiva y amigable que dé respuesta al conjunto de necesidades de la Dirección de Recursos Humano...\\n\\nOrganismo: Presidencia de la Compañía Española de Financiación del Desarrollo. COFIDES S.A.\, S.M.E.\\n\\nVer en Contratero: https://contratero.es/contracts/25TT-RRHH020
URL:https://contratero.es/contracts/25TT-RRHH020
STATUS:CONFIRMED
BEGIN:VALARM
TRIGGER:-P1D
ACTION:DISPLAY
DESCRIPTION:Recordatorio: El objetivo de esta licitación
END:VALARM
END:VEVENT
END:VCALENDAR