BEGIN:VCALENDAR
VERSION:2.0
PRODID:-//Contratero//ES
CALSCALE:GREGORIAN
METHOD:PUBLISH
BEGIN:VEVENT
UID:26-SE-06@contratero.es
DTSTAMP:20260421T132346Z
DTSTART:20260424T235959
DTEND:20260425T005959
SUMMARY:Cierre: Contratación de una aplicación informática para el
DESCRIPTION:Contratación de una aplicación informática para el sistema interno de información o canal de denuncias.\\n\\nOrganismo: Alcaldía del Ayuntamiento de Mislata\\n\\nVer en Contratero: https://contratero.es/contracts/26-SE-06
URL:https://contratero.es/contracts/26-SE-06
STATUS:CONFIRMED
BEGIN:VALARM
TRIGGER:-P1D
ACTION:DISPLAY
DESCRIPTION:Recordatorio: Contratación de una aplicación
END:VALARM
END:VEVENT
END:VCALENDAR