BEGIN:VCALENDAR
VERSION:2.0
PRODID:-//Contratero//ES
CALSCALE:GREGORIAN
METHOD:PUBLISH
BEGIN:VEVENT
UID:26/025@contratero.es
DTSTAMP:20260420T223501Z
DTSTART:20251110T235959
DTEND:20251111T005959
SUMMARY:Cierre: Suministro de una herramienta accesible online par
DESCRIPTION:Suministro de una herramienta accesible online para la generación y edición de vídeos.\\n\\nOrganismo: Comisión de Contratación de la Sociedad Estatal Loterías y Apuestas del Estado\, S.M.E.\, S.A.\\n\\nVer en Contratero: https://contratero.es/contracts/26/025
URL:https://contratero.es/contracts/26/025
STATUS:CONFIRMED
BEGIN:VALARM
TRIGGER:-P1D
ACTION:DISPLAY
DESCRIPTION:Recordatorio: Suministro de una herramienta 
END:VALARM
END:VEVENT
END:VCALENDAR