BEGIN:VCALENDAR
VERSION:2.0
PRODID:-//Contratero//ES
CALSCALE:GREGORIAN
METHOD:PUBLISH
BEGIN:VEVENT
UID:26/05831@contratero.es
DTSTAMP:20260419T214718Z
DTSTART:20260213T235959
DTEND:20260214T005959
SUMMARY:Cierre: Suministro de licencia tipo “Universities” del sof
DESCRIPTION:Suministro de licencia tipo “Universities” del software ENVI-met.\\n\\nOrganismo: Rectorado de la Universidad de Sevilla\\n\\nVer en Contratero: https://contratero.es/contracts/26/05831
URL:https://contratero.es/contracts/26/05831
STATUS:CONFIRMED
BEGIN:VALARM
TRIGGER:-P1D
ACTION:DISPLAY
DESCRIPTION:Recordatorio: Suministro de licencia tipo “U
END:VALARM
END:VEVENT
END:VCALENDAR