BEGIN:VCALENDAR
VERSION:2.0
PRODID:-//Contratero//ES
CALSCALE:GREGORIAN
METHOD:PUBLISH
BEGIN:VEVENT
UID:26/2025@contratero.es
DTSTAMP:20260423T084806Z
DTSTART:20251114T235959
DTEND:20251115T005959
SUMMARY:Cierre: Asistencia externa para el asesoramiento económico
DESCRIPTION:Asistencia externa para el asesoramiento económico\, financiero y técnico del proyecto Longevity en el que el ayuntamiento participa como socio\\n\\nOrganismo: Junta de Gobierno del Ayuntamiento de Lorqui\\n\\nVer en Contratero: https://contratero.es/contracts/26/2025
URL:https://contratero.es/contracts/26/2025
STATUS:CONFIRMED
BEGIN:VALARM
TRIGGER:-P1D
ACTION:DISPLAY
DESCRIPTION:Recordatorio: Asistencia externa para el ase
END:VALARM
END:VEVENT
END:VCALENDAR