BEGIN:VCALENDAR
VERSION:2.0
PRODID:-//Contratero//ES
CALSCALE:GREGORIAN
METHOD:PUBLISH
BEGIN:VEVENT
UID:263/18@contratero.es
DTSTAMP:20260423T214349Z
DTSTART:20181005T235959
DTEND:20181006T005959
SUMMARY:Cierre: Servicios de Gestión y Destrucción de información 
DESCRIPTION:Servicios de Gestión y Destrucción de información confidencial\\n\\nOrganismo: Junta de Gobierno del Ayuntamiento de Santander\\n\\nVer en Contratero: https://contratero.es/contracts/263/18
URL:https://contratero.es/contracts/263/18
STATUS:CONFIRMED
BEGIN:VALARM
TRIGGER:-P1D
ACTION:DISPLAY
DESCRIPTION:Recordatorio: Servicios de Gestión y Destruc
END:VALARM
END:VEVENT
END:VCALENDAR