BEGIN:VCALENDAR
VERSION:2.0
PRODID:-//Contratero//ES
CALSCALE:GREGORIAN
METHOD:PUBLISH
BEGIN:VEVENT
UID:2652/2024@contratero.es
DTSTAMP:20260421T130149Z
DTSTART:20240524T235959
DTEND:20240525T005959
SUMMARY:Cierre: servicio de mantenimiento y asistencia técnica sof
DESCRIPTION:servicio de mantenimiento y asistencia técnica software Albalá MediaSearch y Plataforma  Integración (C-2024/025)\\n\\nOrganismo: Junta de Gobierno Local del Ayuntamiento de Alcalá de Guadaíra\\n\\nVer en Contratero: https://contratero.es/contracts/2652/2024
URL:https://contratero.es/contracts/2652/2024
STATUS:CONFIRMED
BEGIN:VALARM
TRIGGER:-P1D
ACTION:DISPLAY
DESCRIPTION:Recordatorio: servicio de mantenimiento y as
END:VALARM
END:VEVENT
END:VCALENDAR