BEGIN:VCALENDAR
VERSION:2.0
PRODID:-//Contratero//ES
CALSCALE:GREGORIAN
METHOD:PUBLISH
BEGIN:VEVENT
UID:27/2019@contratero.es
DTSTAMP:20260419T214434Z
DTSTART:20191227T235959
DTEND:20191228T005959
SUMMARY:Cierre: Implantación del software necesario para alcanzar 
DESCRIPTION:Implantación del software necesario para alcanzar los objetivos previstos en el pliego de prescripciones técnicas y los servicios de asistencia técnica y consultoría necesarios para su implantación.\\n\\nOrganismo: Junta de Gobierno Local del Ayuntamiento de Granadilla de Abona\\n\\nVer en Contratero: https://contratero.es/contracts/27/2019
URL:https://contratero.es/contracts/27/2019
STATUS:CONFIRMED
BEGIN:VALARM
TRIGGER:-P1D
ACTION:DISPLAY
DESCRIPTION:Recordatorio: Implantación del software nece
END:VALARM
END:VEVENT
END:VCALENDAR