BEGIN:VCALENDAR
VERSION:2.0
PRODID:-//Contratero//ES
CALSCALE:GREGORIAN
METHOD:PUBLISH
BEGIN:VEVENT
UID:27/GE23@contratero.es
DTSTAMP:20260422T102545Z
DTSTART:20230224T235959
DTEND:20230225T005959
SUMMARY:Cierre: Servicio de realización de campañas informativas e
DESCRIPTION:Servicio de realización de campañas informativas en el ámbito tributario previa gestión de la base de datos fiscales del Organismo Autónomo de Gestión Económica y Recaudación (OAGER) del Excmo. Ayunta...\\n\\nOrganismo: Presidencia del Organismo Autónomo de Gestión Económica y Recaudación del Excmo. Ayuntamiento de Salamanca (O.A.G.E.R.)\\n\\nVer en Contratero: https://contratero.es/contracts/27/GE23
URL:https://contratero.es/contracts/27/GE23
STATUS:CONFIRMED
BEGIN:VALARM
TRIGGER:-P1D
ACTION:DISPLAY
DESCRIPTION:Recordatorio: Servicio de realización de cam
END:VALARM
END:VEVENT
END:VCALENDAR