BEGIN:VCALENDAR
VERSION:2.0
PRODID:-//Contratero//ES
CALSCALE:GREGORIAN
METHOD:PUBLISH
BEGIN:VEVENT
UID:27538/2025@contratero.es
DTSTAMP:20260422T104404Z
DTSTART:20251020T235959
DTEND:20251021T005959
SUMMARY:Cierre: Servicio de mantenimiento del programa de gestión 
DESCRIPTION:Servicio de mantenimiento del programa de gestión policial VINFOPOL\\n\\nOrganismo: Junta de Gobierno del Ayuntamiento Las Rozas\\n\\nVer en Contratero: https://contratero.es/contracts/27538/2025
URL:https://contratero.es/contracts/27538/2025
STATUS:CONFIRMED
BEGIN:VALARM
TRIGGER:-P1D
ACTION:DISPLAY
DESCRIPTION:Recordatorio: Servicio de mantenimiento del 
END:VALARM
END:VEVENT
END:VCALENDAR