BEGIN:VCALENDAR
VERSION:2.0
PRODID:-//Contratero//ES
CALSCALE:GREGORIAN
METHOD:PUBLISH
BEGIN:VEVENT
UID:27737/2022@contratero.es
DTSTAMP:20260423T103309Z
DTSTART:20220829T235959
DTEND:20220830T005959
SUMMARY:Cierre: Contratación del sistema de gestión de gobierno ab
DESCRIPTION:Contratación del sistema de gestión de gobierno abierto para el Ayuntamiento de Torrevieja\\n\\nOrganismo: Junta de Gobierno del Ayuntamiento de Torrevieja\\n\\nVer en Contratero: https://contratero.es/contracts/27737/2022
URL:https://contratero.es/contracts/27737/2022
STATUS:CONFIRMED
BEGIN:VALARM
TRIGGER:-P1D
ACTION:DISPLAY
DESCRIPTION:Recordatorio: Contratación del sistema de ge
END:VALARM
END:VEVENT
END:VCALENDAR