BEGIN:VCALENDAR
VERSION:2.0
PRODID:-//Contratero//ES
CALSCALE:GREGORIAN
METHOD:PUBLISH
BEGIN:VEVENT
UID:279/2022@contratero.es
DTSTAMP:20260421T125153Z
DTSTART:20221212T235959
DTEND:20221213T005959
SUMMARY:Cierre: Servicio de asistencia técnica (uso\, mantenimiento
DESCRIPTION:Servicio de asistencia técnica (uso\, mantenimiento\, alojamiento de datos y formación) de la herramienta de administración electrónica “GESTIONA” de la empresa Espúblico Servicios para la Administració...\\n\\nOrganismo: Alcaldía del Ayuntamiento de Sahún\\n\\nVer en Contratero: https://contratero.es/contracts/279/2022
URL:https://contratero.es/contracts/279/2022
STATUS:CONFIRMED
BEGIN:VALARM
TRIGGER:-P1D
ACTION:DISPLAY
DESCRIPTION:Recordatorio: Servicio de asistencia técnica
END:VALARM
END:VEVENT
END:VCALENDAR