BEGIN:VCALENDAR
VERSION:2.0
PRODID:-//Contratero//ES
CALSCALE:GREGORIAN
METHOD:PUBLISH
BEGIN:VEVENT
UID:279/2024/CMA@contratero.es
DTSTAMP:20260424T161156Z
DTSTART:20241016T235959
DTEND:20241017T005959
SUMMARY:Cierre: Servicios para los procesos de carga externa en lo
DESCRIPTION:Servicios para los procesos de carga externa en los servicios de Recaudación y Gestión Tributaria y de IPSI Operaciones Interiores de la Dirección General de Ingresos Públicos.\\n\\nOrganismo: Consejería de Hacienda de la Ciudad Autónoma de Melilla\\n\\nVer en Contratero: https://contratero.es/contracts/279/2024/CMA
URL:https://contratero.es/contracts/279/2024/CMA
STATUS:CONFIRMED
BEGIN:VALARM
TRIGGER:-P1D
ACTION:DISPLAY
DESCRIPTION:Recordatorio: Servicios para los procesos de
END:VALARM
END:VEVENT
END:VCALENDAR