BEGIN:VCALENDAR
VERSION:2.0
PRODID:-//Contratero//ES
CALSCALE:GREGORIAN
METHOD:PUBLISH
BEGIN:VEVENT
UID:28/20@contratero.es
DTSTAMP:20260422T024547Z
DTSTART:20201222T235959
DTEND:20201223T005959
SUMMARY:Cierre: Servicio de asisencia técnica para el mantenimient
DESCRIPTION:Servicio de asisencia técnica para el mantenimiento y la evolución de los diferentes sistemas de información de la Agencia Cantabra de Administración Tributaria de 2021 a 2023\\n\\nOrganismo: Agencia Cántabra de la Administración Tributaria\\n\\nVer en Contratero: https://contratero.es/contracts/28/20
URL:https://contratero.es/contracts/28/20
STATUS:CONFIRMED
BEGIN:VALARM
TRIGGER:-P1D
ACTION:DISPLAY
DESCRIPTION:Recordatorio: Servicio de asisencia técnica 
END:VALARM
END:VEVENT
END:VCALENDAR