BEGIN:VCALENDAR
VERSION:2.0
PRODID:-//Contratero//ES
CALSCALE:GREGORIAN
METHOD:PUBLISH
BEGIN:VEVENT
UID:2868/2022@contratero.es
DTSTAMP:20260424T031412Z
DTSTART:20220525T235959
DTEND:20220526T005959
SUMMARY:Cierre: Servicio de mantenimiento de software FILEMAKER pa
DESCRIPTION:Servicio de mantenimiento de software FILEMAKER para 2022\, 2023\, 2024 y 2025\\n\\nOrganismo: Presidencia de la Diputación Provincial de Castellón\\n\\nVer en Contratero: https://contratero.es/contracts/2868/2022
URL:https://contratero.es/contracts/2868/2022
STATUS:CONFIRMED
BEGIN:VALARM
TRIGGER:-P1D
ACTION:DISPLAY
DESCRIPTION:Recordatorio: Servicio de mantenimiento de s
END:VALARM
END:VEVENT
END:VCALENDAR