BEGIN:VCALENDAR
VERSION:2.0
PRODID:-//Contratero//ES
CALSCALE:GREGORIAN
METHOD:PUBLISH
BEGIN:VEVENT
UID:2870/2025@contratero.es
DTSTAMP:20260420T152821Z
DTSTART:20250916T235959
DTEND:20250917T005959
SUMMARY:Cierre: Suministro y configuración de un gestor de certifi
DESCRIPTION:Suministro y configuración de un gestor de certificados digitales para el Ayuntamiento de La Unión.\\n\\nOrganismo: Junta de Gobierno del Ayuntamiento de La Unión\\n\\nVer en Contratero: https://contratero.es/contracts/2870/2025
URL:https://contratero.es/contracts/2870/2025
STATUS:CONFIRMED
BEGIN:VALARM
TRIGGER:-P1D
ACTION:DISPLAY
DESCRIPTION:Recordatorio: Suministro y configuración de 
END:VALARM
END:VEVENT
END:VCALENDAR