BEGIN:VCALENDAR
VERSION:2.0
PRODID:-//Contratero//ES
CALSCALE:GREGORIAN
METHOD:PUBLISH
BEGIN:VEVENT
UID:2895/2020@contratero.es
DTSTAMP:20260421T071821Z
DTSTART:20201202T235959
DTEND:20201203T005959
SUMMARY:Cierre: El objeto del contrato es el servicio\, instalación
DESCRIPTION:El objeto del contrato es el servicio\, instalación\, configuración y puesta en marcha de una plataforma software de gestión de reservas\, inscripciones y alquileres de instalaciones deportivas.\\n\\nOrganismo: Alcaldía del Ayuntamiento de Coria\\n\\nVer en Contratero: https://contratero.es/contracts/2895/2020
URL:https://contratero.es/contracts/2895/2020
STATUS:CONFIRMED
BEGIN:VALARM
TRIGGER:-P1D
ACTION:DISPLAY
DESCRIPTION:Recordatorio: El objeto del contrato es el s
END:VALARM
END:VEVENT
END:VCALENDAR