BEGIN:VCALENDAR
VERSION:2.0
PRODID:-//Contratero//ES
CALSCALE:GREGORIAN
METHOD:PUBLISH
BEGIN:VEVENT
UID:295/22@contratero.es
DTSTAMP:20260422T173849Z
DTSTART:20230109T235959
DTEND:20230110T005959
SUMMARY:Cierre: Servicio de actualización y mantenimiento de la ap
DESCRIPTION:Servicio de actualización y mantenimiento de la aplicación de gestión de personal municipal\\n\\nOrganismo: Junta de Gobierno del Ayuntamiento de Santander\\n\\nVer en Contratero: https://contratero.es/contracts/295/22
URL:https://contratero.es/contracts/295/22
STATUS:CONFIRMED
BEGIN:VALARM
TRIGGER:-P1D
ACTION:DISPLAY
DESCRIPTION:Recordatorio: Servicio de actualización y ma
END:VALARM
END:VEVENT
END:VCALENDAR