BEGIN:VCALENDAR
VERSION:2.0
PRODID:-//Contratero//ES
CALSCALE:GREGORIAN
METHOD:PUBLISH
BEGIN:VEVENT
UID:2DGT00000037@contratero.es
DTSTAMP:20260423T092923Z
DTSTART:20180404T235959
DTEND:20180405T005959
SUMMARY:Cierre: Servicio de mantenimiento evolutivo\, correctivo y 
DESCRIPTION:Servicio de mantenimiento evolutivo\, correctivo y adaptativo de los sistemas de información de la Gerencia de Informática de la Dirección General de Tráfico\\n\\nOrganismo: Dirección General de Tráfico\\n\\nVer en Contratero: https://contratero.es/contracts/2DGT00000037
URL:https://contratero.es/contracts/2DGT00000037
STATUS:CONFIRMED
BEGIN:VALARM
TRIGGER:-P1D
ACTION:DISPLAY
DESCRIPTION:Recordatorio: Servicio de mantenimiento evol
END:VALARM
END:VEVENT
END:VCALENDAR