BEGIN:VCALENDAR
VERSION:2.0
PRODID:-//Contratero//ES
CALSCALE:GREGORIAN
METHOD:PUBLISH
BEGIN:VEVENT
UID:2DGT2AP00026@contratero.es
DTSTAMP:20260425T191036Z
DTSTART:20240312T235959
DTEND:20240313T005959
SUMMARY:Cierre: Contratación de un servicio de soporte y actualiza
DESCRIPTION:Contratación de un servicio de soporte y actualizaciones de equipos de telecomunicaciones de la Dirección General de Tráfico\\n\\nOrganismo: Dirección General de Tráfico\\n\\nVer en Contratero: https://contratero.es/contracts/2DGT2AP00026
URL:https://contratero.es/contracts/2DGT2AP00026
STATUS:CONFIRMED
BEGIN:VALARM
TRIGGER:-P1D
ACTION:DISPLAY
DESCRIPTION:Recordatorio: Contratación de un servicio de
END:VALARM
END:VEVENT
END:VCALENDAR