BEGIN:VCALENDAR
VERSION:2.0
PRODID:-//Contratero//ES
CALSCALE:GREGORIAN
METHOD:PUBLISH
BEGIN:VEVENT
UID:2_2024@contratero.es
DTSTAMP:20260422T075137Z
DTSTART:20240731T235959
DTEND:20240801T005959
SUMMARY:Cierre: Servicios Iaas\, Paas y Saas del Organismo Autónomo
DESCRIPTION:Servicios Iaas\, Paas y Saas del Organismo Autónomo Provincial de Gestión Tributaria de Toledo\\n\\nOrganismo: Dirección del Organismo Autónomo Provincial de Gestión Tributaria de Toledo\\n\\nVer en Contratero: https://contratero.es/contracts/2_2024
URL:https://contratero.es/contracts/2_2024
STATUS:CONFIRMED
BEGIN:VALARM
TRIGGER:-P1D
ACTION:DISPLAY
DESCRIPTION:Recordatorio: Servicios Iaas\, Paas y Saas de
END:VALARM
END:VEVENT
END:VCALENDAR