BEGIN:VCALENDAR
VERSION:2.0
PRODID:-//Contratero//ES
CALSCALE:GREGORIAN
METHOD:PUBLISH
BEGIN:VEVENT
UID:3.21/41110.0208@contratero.es
DTSTAMP:20260423T131710Z
DTSTART:20211112T235959
DTEND:20211113T005959
SUMMARY:Cierre: Suministro e instalación de equipamiento para la r
DESCRIPTION:Suministro e instalación de equipamiento para la renovación del acceso de usuarios de los puestos de mando a SITRA+\\n\\nOrganismo: ADIF - Presidencia\\n\\nVer en Contratero: https://contratero.es/contracts/3.21/41110.0208
URL:https://contratero.es/contracts/3.21/41110.0208
STATUS:CONFIRMED
BEGIN:VALARM
TRIGGER:-P1D
ACTION:DISPLAY
DESCRIPTION:Recordatorio: Suministro e instalación de eq
END:VALARM
END:VEVENT
END:VCALENDAR