BEGIN:VCALENDAR
VERSION:2.0
PRODID:-//Contratero//ES
CALSCALE:GREGORIAN
METHOD:PUBLISH
BEGIN:VEVENT
UID:3.25/41110.0087@contratero.es
DTSTAMP:20260421T185039Z
DTSTART:20250514T235959
DTEND:20250515T005959
SUMMARY:Cierre: Soporte y mantenimiento de licencias software Orac
DESCRIPTION:Soporte y mantenimiento de licencias software Oracle\\n\\nOrganismo: ADIF - Presidencia\\n\\nVer en Contratero: https://contratero.es/contracts/3.25/41110.0087
URL:https://contratero.es/contracts/3.25/41110.0087
STATUS:CONFIRMED
BEGIN:VALARM
TRIGGER:-P1D
ACTION:DISPLAY
DESCRIPTION:Recordatorio: Soporte y mantenimiento de lic
END:VALARM
END:VEVENT
END:VCALENDAR