BEGIN:VCALENDAR
VERSION:2.0
PRODID:-//Contratero//ES
CALSCALE:GREGORIAN
METHOD:PUBLISH
BEGIN:VEVENT
UID:3.25/46506.0011@contratero.es
DTSTAMP:20260421T022126Z
DTSTART:20250625T235959
DTEND:20250626T005959
SUMMARY:Cierre: Desarrollo de nuevas funcionalidades de regulación
DESCRIPTION:Desarrollo de nuevas funcionalidades de regulación en SITRA+\\n\\nOrganismo: ADIF - Presidencia\\n\\nVer en Contratero: https://contratero.es/contracts/3.25/46506.0011
URL:https://contratero.es/contracts/3.25/46506.0011
STATUS:CONFIRMED
BEGIN:VALARM
TRIGGER:-P1D
ACTION:DISPLAY
DESCRIPTION:Recordatorio: Desarrollo de nuevas funcional
END:VALARM
END:VEVENT
END:VCALENDAR