BEGIN:VCALENDAR
VERSION:2.0
PRODID:-//Contratero//ES
CALSCALE:GREGORIAN
METHOD:PUBLISH
BEGIN:VEVENT
UID:3/25@contratero.es
DTSTAMP:20260422T214944Z
DTSTART:20250211T235959
DTEND:20250212T005959
SUMMARY:Cierre: Suministro de 25 licencias para la renovación del 
DESCRIPTION:Suministro de 25 licencias para la renovación del mantenimiento del Software RedHat Enterprise Linux Academic Server\, durante 3 años\\n\\nOrganismo: Rectorado de la Universidad de les Illes Balears\\n\\nVer en Contratero: https://contratero.es/contracts/3/25
URL:https://contratero.es/contracts/3/25
STATUS:CONFIRMED
BEGIN:VALARM
TRIGGER:-P1D
ACTION:DISPLAY
DESCRIPTION:Recordatorio: Suministro de 25 licencias par
END:VALARM
END:VEVENT
END:VCALENDAR