BEGIN:VCALENDAR
VERSION:2.0
PRODID:-//Contratero//ES
CALSCALE:GREGORIAN
METHOD:PUBLISH
BEGIN:VEVENT
UID:30/2021@contratero.es
DTSTAMP:20260422T205702Z
DTSTART:20210930T235959
DTEND:20211001T005959
SUMMARY:Cierre: Suministro de una Plataforma software que ofrezca 
DESCRIPTION:Suministro de una Plataforma software que ofrezca los servicios de Administración Electrónica obligados en la leyes 39 y 40 de 2015 y que integre la gestión documental y gestión de expedientes con: el...\\n\\nOrganismo: Junta de Gobierno del Ayuntamiento de Huelva\\n\\nVer en Contratero: https://contratero.es/contracts/30/2021
URL:https://contratero.es/contracts/30/2021
STATUS:CONFIRMED
BEGIN:VALARM
TRIGGER:-P1D
ACTION:DISPLAY
DESCRIPTION:Recordatorio: Suministro de una Plataforma s
END:VALARM
END:VEVENT
END:VCALENDAR