BEGIN:VCALENDAR
VERSION:2.0
PRODID:-//Contratero//ES
CALSCALE:GREGORIAN
METHOD:PUBLISH
BEGIN:VEVENT
UID:300/2020/00647@contratero.es
DTSTAMP:20260423T201903Z
DTSTART:20210330T235959
DTEND:20210331T005959
SUMMARY:Cierre: Plataforma para la evaluación de la gestión munici
DESCRIPTION:Plataforma para la evaluación de la gestión municipal del Ayuntamiento de Madrid.\\n\\nOrganismo: Organismo Autónomo Informática del Ayuntamiento de Madrid\\n\\nVer en Contratero: https://contratero.es/contracts/300/2020/00647
URL:https://contratero.es/contracts/300/2020/00647
STATUS:CONFIRMED
BEGIN:VALARM
TRIGGER:-P1D
ACTION:DISPLAY
DESCRIPTION:Recordatorio: Plataforma para la evaluación 
END:VALARM
END:VEVENT
END:VCALENDAR